Package: CNEr Version: 1.38.0 Command: /Library/Frameworks/R.framework/Resources/bin/R CMD check --install=check:CNEr.install-out.txt --library=/Library/Frameworks/R.framework/Resources/library --no-vignettes --timings CNEr_1.38.0.tar.gz StartedAt: 2024-04-16 00:54:53 -0400 (Tue, 16 Apr 2024) EndedAt: 2024-04-16 01:15:38 -0400 (Tue, 16 Apr 2024) EllapsedTime: 1244.5 seconds RetCode: 0 Status: WARNINGS CheckDir: CNEr.Rcheck Warnings: 2