Package: CNEr Version: 1.38.0 Command: /home/biocbuild/bbs-3.18-bioc/R/bin/R CMD INSTALL CNEr StartedAt: 2024-04-15 15:18:46 -0400 (Mon, 15 Apr 2024) EndedAt: 2024-04-15 15:19:36 -0400 (Mon, 15 Apr 2024) EllapsedTime: 49.9 seconds RetCode: 0 Status: OK