Package: CNORdt Version: 1.44.0 Command: /home/biocbuild/R/R-4.3.1/bin/R CMD build --keep-empty-dirs --no-resave-data CNORdt StartedAt: 2023-11-01 23:36:44 -0000 (Wed, 01 Nov 2023) EndedAt: 2023-11-01 23:37:28 -0000 (Wed, 01 Nov 2023) EllapsedTime: 44.1 seconds RetCode: 0 Status: OK PackageFile: CNORdt_1.44.0.tar.gz PackageFileSize: 310.8 KiB