Package: CNORdt Version: 1.44.0 Command: /home/biocbuild/bbs-3.18-bioc/R/bin/R CMD INSTALL CNORdt StartedAt: 2024-04-15 15:24:31 -0400 (Mon, 15 Apr 2024) EndedAt: 2024-04-15 15:24:39 -0400 (Mon, 15 Apr 2024) EllapsedTime: 7.8 seconds RetCode: 0 Status: OK