Package: CNORdt Version: 1.44.0 Command: chmod a+r CNORdt -R && F:\biocbuild\bbs-3.18-bioc\R\bin\R.exe CMD build --keep-empty-dirs --no-resave-data CNORdt StartedAt: 2024-04-15 17:40:37 -0400 (Mon, 15 Apr 2024) EndedAt: 2024-04-15 17:41:26 -0400 (Mon, 15 Apr 2024) EllapsedTime: 48.6 seconds RetCode: 0 Status: OK PackageFile: CNORdt_1.44.0.tar.gz PackageFileSize: 203.1 KiB