Package: CNORode Version: 1.44.0 Command: rm -rf CNORode.buildbin-libdir && mkdir CNORode.buildbin-libdir && /Users/biocbuild/BBS/utils/build-universal.sh CNORode_1.44.0.tar.gz /Library/Frameworks/R.framework/Resources/bin/R CNORode.buildbin-libdir StartedAt: 2024-03-04 00:34:52 -0500 (Mon, 04 Mar 2024) EndedAt: 2024-03-04 00:35:20 -0500 (Mon, 04 Mar 2024) EllapsedTime: 28.1 seconds RetCode: 0 Status: OK PackageFile: CNORode_1.44.0.tgz PackageFileSize: 658.1 KiB