Package: CNORode Version: 1.44.0 Command: /Library/Frameworks/R.framework/Resources/bin/R CMD build --keep-empty-dirs --no-resave-data CNORode StartedAt: 2024-03-03 16:17:33 -0500 (Sun, 03 Mar 2024) EndedAt: 2024-03-03 16:19:00 -0500 (Sun, 03 Mar 2024) EllapsedTime: 87.3 seconds RetCode: 0 Status: OK PackageFile: CNORode_1.44.0.tar.gz PackageFileSize: 726.8 KiB