Package: CNORode Version: 1.44.0 Command: /Library/Frameworks/R.framework/Resources/bin/R CMD check --install=check:CNORode.install-out.txt --library=/Library/Frameworks/R.framework/Resources/library --no-vignettes --timings CNORode_1.44.0.tar.gz StartedAt: 2024-03-03 19:44:01 -0500 (Sun, 03 Mar 2024) EndedAt: 2024-03-03 19:45:26 -0500 (Sun, 03 Mar 2024) EllapsedTime: 85.1 seconds RetCode: 0 Status: WARNINGS CheckDir: CNORode.Rcheck Warnings: 1