Package: CNORode Version: 1.44.0 Command: /home/biocbuild/bbs-3.18-bioc/R/bin/R CMD build --keep-empty-dirs --no-resave-data CNORode StartedAt: 2024-04-15 16:31:58 -0400 (Mon, 15 Apr 2024) EndedAt: 2024-04-15 16:33:05 -0400 (Mon, 15 Apr 2024) EllapsedTime: 66.3 seconds RetCode: 0 Status: OK PackageFile: CNORode_1.44.0.tar.gz PackageFileSize: 720.2 KiB