Package: CNORode Version: 1.44.0 Command: /home/biocbuild/bbs-3.18-bioc/R/bin/R CMD INSTALL CNORode StartedAt: 2024-04-15 15:24:31 -0400 (Mon, 15 Apr 2024) EndedAt: 2024-04-15 15:24:47 -0400 (Mon, 15 Apr 2024) EllapsedTime: 15.7 seconds RetCode: 0 Status: OK