Package: CNVgears Version: 1.10.0 Command: /home/biocbuild/R/R-4.3.1/bin/R CMD build --keep-empty-dirs --no-resave-data CNVgears StartedAt: 2023-11-01 23:37:20 -0000 (Wed, 01 Nov 2023) EndedAt: 2023-11-01 23:38:14 -0000 (Wed, 01 Nov 2023) EllapsedTime: 54.1 seconds RetCode: 0 Status: OK PackageFile: CNVgears_1.10.0.tar.gz PackageFileSize: 2.311 MiB