Package: CNVgears Version: 1.10.0 Command: /Library/Frameworks/R.framework/Resources/bin/R CMD build --keep-empty-dirs --no-resave-data CNVgears StartedAt: 2024-03-03 16:17:47 -0500 (Sun, 03 Mar 2024) EndedAt: 2024-03-03 16:18:36 -0500 (Sun, 03 Mar 2024) EllapsedTime: 49.0 seconds RetCode: 0 Status: OK PackageFile: CNVgears_1.10.0.tar.gz PackageFileSize: 2.287 MiB