Package: CNVgears Version: 1.10.0 Command: /home/biocbuild/bbs-3.18-bioc/R/bin/R CMD check --install=check:CNVgears.install-out.txt --library=/home/biocbuild/bbs-3.18-bioc/R/site-library --timings CNVgears_1.10.0.tar.gz StartedAt: 2024-04-15 21:23:06 -0400 (Mon, 15 Apr 2024) EndedAt: 2024-04-15 21:24:56 -0400 (Mon, 15 Apr 2024) EllapsedTime: 109.9 seconds RetCode: 0 Status: OK CheckDir: CNVgears.Rcheck Warnings: 0