Package: COHCAP Version: 1.48.0 Command: rm -rf COHCAP.buildbin-libdir && mkdir COHCAP.buildbin-libdir && /Users/biocbuild/BBS/utils/build-universal.sh COHCAP_1.48.0.tar.gz /Library/Frameworks/R.framework/Resources/bin/R COHCAP.buildbin-libdir StartedAt: 2024-03-04 00:35:16 -0500 (Mon, 04 Mar 2024) EndedAt: 2024-03-04 00:35:50 -0500 (Mon, 04 Mar 2024) EllapsedTime: 33.9 seconds RetCode: 0 Status: OK PackageFile: COHCAP_1.48.0.tgz PackageFileSize: 435.8 KiB