Package: COHCAP Version: 1.48.0 Command: /Library/Frameworks/R.framework/Resources/bin/R CMD INSTALL COHCAP StartedAt: 2024-03-03 15:05:31 -0500 (Sun, 03 Mar 2024) EndedAt: 2024-03-03 15:05:58 -0500 (Sun, 03 Mar 2024) EllapsedTime: 27.5 seconds RetCode: 0 Status: OK