Package: COHCAP Version: 1.48.0 Command: /Library/Frameworks/R.framework/Resources/bin/R CMD build --keep-empty-dirs --no-resave-data COHCAP StartedAt: 2024-04-15 17:49:56 -0400 (Mon, 15 Apr 2024) EndedAt: 2024-04-15 17:51:05 -0400 (Mon, 15 Apr 2024) EllapsedTime: 69.0 seconds RetCode: 0 Status: OK PackageFile: COHCAP_1.48.0.tar.gz PackageFileSize: 236.1 KiB