Package: COHCAP Version: 1.48.0 Command: chmod a+r COHCAP -R && F:\biocbuild\bbs-3.18-bioc\R\bin\R.exe CMD build --keep-empty-dirs --no-resave-data COHCAP StartedAt: 2024-04-15 17:42:37 -0400 (Mon, 15 Apr 2024) EndedAt: 2024-04-15 17:43:27 -0400 (Mon, 15 Apr 2024) EllapsedTime: 49.8 seconds RetCode: 0 Status: OK PackageFile: COHCAP_1.48.0.tar.gz PackageFileSize: 133.8 KiB