Package: CONFESS Version: 1.30.0 Command: /home/biocbuild/R/R-4.3.1/bin/R CMD build --keep-empty-dirs --no-resave-data CONFESS StartedAt: 2023-11-01 23:44:28 -0000 (Wed, 01 Nov 2023) EndedAt: 2023-11-01 23:47:52 -0000 (Wed, 01 Nov 2023) EllapsedTime: 203.3 seconds RetCode: 0 Status: OK PackageFile: CONFESS_1.30.0.tar.gz PackageFileSize: 3.596 MiB