Package: CONFESS Version: 1.30.0 Command: /home/biocbuild/R/R-4.3.1/bin/R CMD check --install=check:CONFESS.install-out.txt --library=/home/biocbuild/R/R-4.3.1/site-library --no-vignettes --timings CONFESS_1.30.0.tar.gz StartedAt: 2023-11-02 09:32:11 -0000 (Thu, 02 Nov 2023) EndedAt: 2023-11-02 09:40:41 -0000 (Thu, 02 Nov 2023) EllapsedTime: 510.6 seconds RetCode: 0 Status: WARNINGS CheckDir: CONFESS.Rcheck Warnings: 1