Package: CONFESS Version: 1.30.0 Command: rm -rf CONFESS.buildbin-libdir && mkdir CONFESS.buildbin-libdir && /Users/biocbuild/BBS/utils/build-universal.sh CONFESS_1.30.0.tar.gz /Library/Frameworks/R.framework/Resources/bin/R CONFESS.buildbin-libdir StartedAt: 2024-03-04 00:35:34 -0500 (Mon, 04 Mar 2024) EndedAt: 2024-03-04 00:36:43 -0500 (Mon, 04 Mar 2024) EllapsedTime: 68.7 seconds RetCode: 0 Status: OK PackageFile: CONFESS_1.30.0.tgz PackageFileSize: 3.121 MiB