Package: CONFESS Version: 1.30.0 Command: /Library/Frameworks/R.framework/Resources/bin/R CMD check --install=check:CONFESS.install-out.txt --library=/Library/Frameworks/R.framework/Resources/library --no-vignettes --timings CONFESS_1.30.0.tar.gz StartedAt: 2024-03-03 19:49:32 -0500 (Sun, 03 Mar 2024) EndedAt: 2024-03-03 19:56:16 -0500 (Sun, 03 Mar 2024) EllapsedTime: 404.6 seconds RetCode: 0 Status: WARNINGS CheckDir: CONFESS.Rcheck Warnings: 1