Package: CONFESS Version: 1.30.0 Command: /Library/Frameworks/R.framework/Resources/bin/R CMD check --install=check:CONFESS.install-out.txt --library=/Library/Frameworks/R.framework/Resources/library --no-vignettes --timings CONFESS_1.30.0.tar.gz StartedAt: 2024-04-16 01:08:42 -0400 (Tue, 16 Apr 2024) EndedAt: 2024-04-16 01:21:25 -0400 (Tue, 16 Apr 2024) EllapsedTime: 763.0 seconds RetCode: 0 Status: WARNINGS CheckDir: CONFESS.Rcheck Warnings: 1