Package: CONFESS Version: 1.30.0 Command: /home/biocbuild/bbs-3.18-bioc/R/bin/R CMD INSTALL CONFESS StartedAt: 2024-04-15 15:37:35 -0400 (Mon, 15 Apr 2024) EndedAt: 2024-04-15 15:38:18 -0400 (Mon, 15 Apr 2024) EllapsedTime: 42.9 seconds RetCode: 0 Status: OK