Package: CONFESS Version: 1.30.0 Command: F:\biocbuild\bbs-3.18-bioc\R\bin\R.exe CMD check --no-multiarch --install=check:CONFESS.install-out.txt --library=F:\biocbuild\bbs-3.18-bioc\R\library --no-vignettes --timings CONFESS_1.30.0.tar.gz StartedAt: 2024-04-15 23:36:36 -0400 (Mon, 15 Apr 2024) EndedAt: 2024-04-15 23:42:45 -0400 (Mon, 15 Apr 2024) EllapsedTime: 369.1 seconds RetCode: 0 Status: WARNINGS CheckDir: CONFESS.Rcheck Warnings: 1