Package: CORREP Version: 1.68.0 Command: /home/biocbuild/bbs-3.18-bioc/R/bin/R CMD check --install=check:CORREP.install-out.txt --library=/home/biocbuild/bbs-3.18-bioc/R/site-library --timings CORREP_1.68.0.tar.gz StartedAt: 2024-04-15 21:34:50 -0400 (Mon, 15 Apr 2024) EndedAt: 2024-04-15 21:35:30 -0400 (Mon, 15 Apr 2024) EllapsedTime: 39.7 seconds RetCode: 0 Status: OK CheckDir: CORREP.Rcheck Warnings: 0