Package: COTAN Version: 2.2.3 Command: /Library/Frameworks/R.framework/Resources/bin/R CMD build --keep-empty-dirs --no-resave-data COTAN StartedAt: 2024-03-03 16:22:24 -0500 (Sun, 03 Mar 2024) EndedAt: 2024-03-03 16:33:44 -0500 (Sun, 03 Mar 2024) EllapsedTime: 680.5 seconds RetCode: 0 Status: OK PackageFile: COTAN_2.2.3.tar.gz PackageFileSize: 5.158 MiB