Package: COTAN Version: 2.2.4 Command: /Library/Frameworks/R.framework/Resources/bin/R CMD INSTALL COTAN StartedAt: 2024-04-15 16:25:35 -0400 (Mon, 15 Apr 2024) EndedAt: 2024-04-15 16:27:00 -0400 (Mon, 15 Apr 2024) EllapsedTime: 84.5 seconds RetCode: 0 Status: OK