Package: CTDquerier Version: 2.10.0 Command: /home/biocbuild/R/R-4.3.1/bin/R CMD INSTALL CTDquerier StartedAt: 2023-11-01 20:17:04 -0000 (Wed, 01 Nov 2023) EndedAt: 2023-11-01 20:17:19 -0000 (Wed, 01 Nov 2023) EllapsedTime: 15.6 seconds RetCode: 0 Status: OK