Package: CTDquerier Version: 2.10.0 Command: /home/biocbuild/bbs-3.18-bioc/R/bin/R CMD check --install=check:CTDquerier.install-out.txt --library=/home/biocbuild/bbs-3.18-bioc/R/site-library --timings CTDquerier_2.10.0.tar.gz StartedAt: 2024-04-15 21:43:29 -0400 (Mon, 15 Apr 2024) EndedAt: 2024-04-15 21:44:57 -0400 (Mon, 15 Apr 2024) EllapsedTime: 87.7 seconds RetCode: 0 Status: WARNINGS CheckDir: CTDquerier.Rcheck Warnings: 1