Package: CTDquerier Version: 2.10.0 Command: /home/biocbuild/bbs-3.18-bioc/R/bin/R CMD INSTALL CTDquerier StartedAt: 2024-04-15 15:15:51 -0400 (Mon, 15 Apr 2024) EndedAt: 2024-04-15 15:16:00 -0400 (Mon, 15 Apr 2024) EllapsedTime: 8.5 seconds RetCode: 0 Status: OK