Package: CTDquerier Version: 2.10.0 Command: chmod a+r CTDquerier -R && F:\biocbuild\bbs-3.18-bioc\R\bin\R.exe CMD build --keep-empty-dirs --no-resave-data CTDquerier StartedAt: 2024-04-15 17:50:04 -0400 (Mon, 15 Apr 2024) EndedAt: 2024-04-15 17:50:08 -0400 (Mon, 15 Apr 2024) EllapsedTime: 4.1 seconds RetCode: 0 Status: OK PackageFile: CTDquerier_2.10.0.tar.gz PackageFileSize: 2.803 MiB