Package: CaDrA Version: 1.0.2 Command: /Library/Frameworks/R.framework/Resources/bin/R CMD INSTALL CaDrA StartedAt: 2024-04-15 15:40:16 -0400 (Mon, 15 Apr 2024) EndedAt: 2024-04-15 15:41:07 -0400 (Mon, 15 Apr 2024) EllapsedTime: 50.5 seconds RetCode: 0 Status: OK