Package: CeTF Version: 1.14.0 Command: /home/biocbuild/R/R-4.3.1/bin/R CMD check --install=check:CeTF.install-out.txt --library=/home/biocbuild/R/R-4.3.1/site-library --no-vignettes --timings CeTF_1.14.0.tar.gz StartedAt: 2023-11-02 09:08:10 -0000 (Thu, 02 Nov 2023) EndedAt: 2023-11-02 09:22:10 -0000 (Thu, 02 Nov 2023) EllapsedTime: 840.1 seconds RetCode: 0 Status: OK CheckDir: CeTF.Rcheck Warnings: 0