Package: CeTF Version: 1.14.0 Command: /Library/Frameworks/R.framework/Resources/bin/R CMD build --keep-empty-dirs --no-resave-data CeTF StartedAt: 2024-03-03 16:11:27 -0500 (Sun, 03 Mar 2024) EndedAt: 2024-03-03 16:14:35 -0500 (Sun, 03 Mar 2024) EllapsedTime: 187.5 seconds RetCode: 0 Status: OK PackageFile: CeTF_1.14.0.tar.gz PackageFileSize: 3.771 MiB