Package: CeTF Version: 1.14.0 Command: /Library/Frameworks/R.framework/Resources/bin/R CMD check --install=check:CeTF.install-out.txt --library=/Library/Frameworks/R.framework/Resources/library --no-vignettes --timings CeTF_1.14.0.tar.gz StartedAt: 2024-03-03 19:32:20 -0500 (Sun, 03 Mar 2024) EndedAt: 2024-03-03 19:38:22 -0500 (Sun, 03 Mar 2024) EllapsedTime: 361.9 seconds RetCode: 0 Status: OK CheckDir: CeTF.Rcheck Warnings: 0