Package: CellBarcode Version: 1.8.0 Command: /home/biocbuild/R/R-4.3.1/bin/R CMD INSTALL CellBarcode StartedAt: 2023-11-01 20:33:07 -0000 (Wed, 01 Nov 2023) EndedAt: 2023-11-01 20:34:51 -0000 (Wed, 01 Nov 2023) EllapsedTime: 103.1 seconds RetCode: 0 Status: OK