Package: CellScore Version: 1.22.0 Command: /Library/Frameworks/R.framework/Resources/bin/R CMD build --keep-empty-dirs --no-resave-data CellScore StartedAt: 2024-04-15 17:32:39 -0400 (Mon, 15 Apr 2024) EndedAt: 2024-04-15 17:40:24 -0400 (Mon, 15 Apr 2024) EllapsedTime: 464.8 seconds RetCode: 0 Status: OK PackageFile: CellScore_1.22.0.tar.gz PackageFileSize: 4.216 MiB