Package: Cepo
Version: 1.8.0
Maintainer: Hani Jieun Kim
MaintainerEmail: hani.kim127 at gmail.com
git_url: https://git.bioconductor.org/packages/Cepo
git_branch: RELEASE_3_18
git_last_commit: 5482f8e
git_last_commit_date: 2023-10-24 11:37:48 -0400 (Tue, 24 Oct 2023)