Package: Cepo Version: 1.8.0 Command: rm -rf Cepo.buildbin-libdir && mkdir Cepo.buildbin-libdir && F:\biocbuild\bbs-3.18-bioc\R\bin\R.exe CMD INSTALL --build --library=Cepo.buildbin-libdir Cepo_1.8.0.tar.gz StartedAt: 2024-04-16 06:46:54 -0400 (Tue, 16 Apr 2024) EndedAt: 2024-04-16 06:47:40 -0400 (Tue, 16 Apr 2024) EllapsedTime: 46.8 seconds RetCode: 0 Status: OK PackageFile: Cepo_1.8.0.zip PackageFileSize: 2.518 MiB