Package: CexoR Version: 1.40.0 Command: /home/biocbuild/R/R-4.3.1/bin/R CMD INSTALL CexoR StartedAt: 2023-11-01 20:26:10 -0000 (Wed, 01 Nov 2023) EndedAt: 2023-11-01 20:27:01 -0000 (Wed, 01 Nov 2023) EllapsedTime: 50.6 seconds RetCode: 0 Status: OK