Package: CexoR Version: 1.40.0 Command: /Library/Frameworks/R.framework/Resources/bin/R CMD build --keep-empty-dirs --no-resave-data CexoR StartedAt: 2024-03-03 16:11:29 -0500 (Sun, 03 Mar 2024) EndedAt: 2024-03-03 16:12:40 -0500 (Sun, 03 Mar 2024) EllapsedTime: 70.8 seconds RetCode: 0 Status: OK PackageFile: CexoR_1.40.0.tar.gz PackageFileSize: 1.66 MiB