Package: ChIC Version: 1.19.1 Command: /home/biocbuild/bbs-3.18-bioc/R/bin/R CMD build --keep-empty-dirs --no-resave-data ChIC StartedAt: 2023-04-20 04:23:07 -0400 (Thu, 20 Apr 2023) EndedAt: 2023-04-20 04:23:08 -0400 (Thu, 20 Apr 2023) EllapsedTime: 1.3 seconds RetCode: 1 Status: ERROR PackageFile: None PackageFileSize: NA