Package: ChIPQC Version: 1.38.0 Command: /Library/Frameworks/R.framework/Resources/bin/R CMD build --keep-empty-dirs --no-resave-data ChIPQC StartedAt: 2024-03-03 16:13:28 -0500 (Sun, 03 Mar 2024) EndedAt: 2024-03-03 16:15:12 -0500 (Sun, 03 Mar 2024) EllapsedTime: 103.6 seconds RetCode: 0 Status: OK PackageFile: ChIPQC_1.38.0.tar.gz PackageFileSize: 1.524 MiB