Package: ChIPQC Version: 1.38.0 Command: /Library/Frameworks/R.framework/Resources/bin/R CMD INSTALL ChIPQC StartedAt: 2024-04-15 16:00:41 -0400 (Mon, 15 Apr 2024) EndedAt: 2024-04-15 16:02:41 -0400 (Mon, 15 Apr 2024) EllapsedTime: 120.0 seconds RetCode: 0 Status: OK