Package: ChIPQC Version: 1.38.0 Command: rm -rf ChIPQC.buildbin-libdir && mkdir ChIPQC.buildbin-libdir && F:\biocbuild\bbs-3.18-bioc\R\bin\R.exe CMD INSTALL --build --library=ChIPQC.buildbin-libdir ChIPQC_1.38.0.tar.gz StartedAt: 2024-04-16 06:47:42 -0400 (Tue, 16 Apr 2024) EndedAt: 2024-04-16 06:49:05 -0400 (Tue, 16 Apr 2024) EllapsedTime: 83.0 seconds RetCode: 0 Status: OK PackageFile: ChIPQC_1.38.0.zip PackageFileSize: 2.089 MiB