Package: ChIPQC Version: 1.38.0 Command: F:\biocbuild\bbs-3.18-bioc\R\bin\R.exe CMD INSTALL ChIPQC StartedAt: 2024-04-15 16:16:36 -0400 (Mon, 15 Apr 2024) EndedAt: 2024-04-15 16:17:53 -0400 (Mon, 15 Apr 2024) EllapsedTime: 76.9 seconds RetCode: 0 Status: OK