Package: ChIPXpress Version: 1.46.0 Command: /Library/Frameworks/R.framework/Resources/bin/R CMD INSTALL ChIPXpress StartedAt: 2024-03-03 15:17:52 -0500 (Sun, 03 Mar 2024) EndedAt: 2024-03-03 15:18:35 -0500 (Sun, 03 Mar 2024) EllapsedTime: 42.9 seconds RetCode: 0 Status: OK