Package: ChIPanalyser Version: 1.24.0 Command: rm -rf ChIPanalyser.buildbin-libdir && mkdir ChIPanalyser.buildbin-libdir && /Users/biocbuild/BBS/utils/build-universal.sh ChIPanalyser_1.24.0.tar.gz /Library/Frameworks/R.framework/Resources/bin/R ChIPanalyser.buildbin-libdir StartedAt: 2024-04-16 11:14:35 -0400 (Tue, 16 Apr 2024) EndedAt: 2024-04-16 11:16:55 -0400 (Tue, 16 Apr 2024) EllapsedTime: 139.6 seconds RetCode: 0 Status: OK PackageFile: ChIPanalyser_1.24.0.tgz PackageFileSize: 1.976 MiB