Package: ChIPanalyser Version: 1.24.0 Command: /Library/Frameworks/R.framework/Resources/bin/R CMD INSTALL ChIPanalyser StartedAt: 2024-04-15 15:34:40 -0400 (Mon, 15 Apr 2024) EndedAt: 2024-04-15 15:35:57 -0400 (Mon, 15 Apr 2024) EllapsedTime: 77.2 seconds RetCode: 0 Status: OK