Package: ChIPanalyser Version: 1.24.0 Command: rm -rf ChIPanalyser.buildbin-libdir && mkdir ChIPanalyser.buildbin-libdir && F:\biocbuild\bbs-3.18-bioc\R\bin\R.exe CMD INSTALL --build --library=ChIPanalyser.buildbin-libdir ChIPanalyser_1.24.0.tar.gz StartedAt: 2024-04-16 06:47:33 -0400 (Tue, 16 Apr 2024) EndedAt: 2024-04-16 06:48:36 -0400 (Tue, 16 Apr 2024) EllapsedTime: 63.0 seconds RetCode: 0 Status: OK PackageFile: ChIPanalyser_1.24.0.zip PackageFileSize: 1.786 MiB